BEGIN:VCALENDAR
VERSION:2.0
PRODID:-//Mountain Coast Vineyard - ECPv6.15.20//NONSGML v1.0//EN
CALSCALE:GREGORIAN
METHOD:PUBLISH
X-ORIGINAL-URL:https://mountaincoast.org
X-WR-CALDESC:Events for Mountain Coast Vineyard
REFRESH-INTERVAL;VALUE=DURATION:PT1H
X-Robots-Tag:noindex
X-PUBLISHED-TTL:PT1H
BEGIN:VTIMEZONE
TZID:America/Anchorage
BEGIN:DAYLIGHT
TZOFFSETFROM:-0900
TZOFFSETTO:-0800
TZNAME:AKDT
DTSTART:20220313T110000
END:DAYLIGHT
BEGIN:STANDARD
TZOFFSETFROM:-0800
TZOFFSETTO:-0900
TZNAME:AKST
DTSTART:20221106T100000
END:STANDARD
BEGIN:DAYLIGHT
TZOFFSETFROM:-0900
TZOFFSETTO:-0800
TZNAME:AKDT
DTSTART:20230312T110000
END:DAYLIGHT
BEGIN:STANDARD
TZOFFSETFROM:-0800
TZOFFSETTO:-0900
TZNAME:AKST
DTSTART:20231105T100000
END:STANDARD
BEGIN:DAYLIGHT
TZOFFSETFROM:-0900
TZOFFSETTO:-0800
TZNAME:AKDT
DTSTART:20240310T110000
END:DAYLIGHT
BEGIN:STANDARD
TZOFFSETFROM:-0800
TZOFFSETTO:-0900
TZNAME:AKST
DTSTART:20241103T100000
END:STANDARD
END:VTIMEZONE
BEGIN:VEVENT
DTSTART;TZID=America/Anchorage:20230627T183000
DTEND;TZID=America/Anchorage:20230627T203000
DTSTAMP:20260419T130201
CREATED:20230601T215601Z
LAST-MODIFIED:20230601T215601Z
UID:10371-1687890600-1687897800@mountaincoast.org
SUMMARY:Cookout and Car Wash
DESCRIPTION:You are invited to join us for our summer Kindness Outreach event. Our next gathering is on Tuesday\, June 27th at 6:30 pm. We are meeting at the church building and having a cook out and an “absolutely free” car wash. Our goal is to build community within our church body and to meet our neighbors here in Independence Park. Come\, bring the kids\, a side dish to share and a willingness to have fun.
URL:https://mountaincoast.org/event/cookout-and-car-wash-3/
LOCATION:Mountain Coast Vineyard\, 2511 Sentry Drive\, Anchorage\, AK\, 99507\, United States
END:VEVENT
END:VCALENDAR